BEGIN:VCALENDAR
VERSION:2.0
METHOD:PUBLISH
PRODID:-//ddaysoftware.com//NONSGML DDay.iCal 1.0//EN
BEGIN:VTIMEZONE
TZID:GMT Standard Time
BEGIN:STANDARD
DTSTART;VALUE=DATE:18000101
RRULE:FREQ=YEARLY;BYDAY=SU;BYHOUR=2;BYMINUTE=0;BYMONTH=10;BYMONTHDAY=25,26,
 27,28,29,30,31
TZOFFSETFROM:+0100
TZOFFSETTO:+0000
END:STANDARD
BEGIN:DAYLIGHT
DTSTART;VALUE=DATE:18000101
RRULE:FREQ=YEARLY;BYDAY=SU;BYHOUR=1;BYMINUTE=0;BYMONTH=3;BYMONTHDAY=25,26,2
 7,28,29,30,31
TZOFFSETFROM:+0000
TZOFFSETTO:+0100
END:DAYLIGHT
END:VTIMEZONE
BEGIN:VEVENT
DESCRIPTION:
DTEND;TZID=GMT Standard Time:20200405T123000
DTSTAMP:20260425T182758
DTSTART;TZID=GMT Standard Time:20200405T100000
LOCATION:Club field
SEQUENCE:0
SUMMARY:Alt Clouta Vernalia (CC2)/Practice
UID:553c668b-ed22-4a9c-b73d-6c9167cc689f
URL:http://www.bowmenofbosworth.com/alt-novicepractice-2020-02-19
END:VEVENT
END:VCALENDAR
