BEGIN:VCALENDAR
VERSION:2.0
METHOD:PUBLISH
PRODID:-//ddaysoftware.com//NONSGML DDay.iCal 1.0//EN
BEGIN:VTIMEZONE
TZID:GMT Standard Time
BEGIN:STANDARD
DTSTART;VALUE=DATE:18000101
RRULE:FREQ=YEARLY;BYDAY=SU;BYHOUR=2;BYMINUTE=0;BYMONTH=10;BYMONTHDAY=25,26,
 27,28,29,30,31
TZOFFSETFROM:+0100
TZOFFSETTO:+0000
END:STANDARD
BEGIN:DAYLIGHT
DTSTART;VALUE=DATE:18000101
RRULE:FREQ=YEARLY;BYDAY=SU;BYHOUR=1;BYMINUTE=0;BYMONTH=3;BYMONTHDAY=25,26,2
 7,28,29,30,31
TZOFFSETFROM:+0000
TZOFFSETTO:+0100
END:DAYLIGHT
END:VTIMEZONE
BEGIN:VEVENT
DESCRIPTION:Shot on the smaller 60cm target face.
DTEND;TZID=GMT Standard Time:20200202T123000
DTSTAMP:20260425T214646
DTSTART;TZID=GMT Standard Time:20200202T100000
LOCATION:
SEQUENCE:0
SUMMARY:Portsmouth
UID:cfe2fa54-c5ff-4647-ae3d-7572a9a27b69
URL:http://www.bowmenofbosworth.com/portsmouth-2020-02-02
END:VEVENT
END:VCALENDAR
