BEGIN:VCALENDAR
VERSION:2.0
METHOD:PUBLISH
PRODID:-//ddaysoftware.com//NONSGML DDay.iCal 1.0//EN
BEGIN:VTIMEZONE
TZID:GMT Standard Time
BEGIN:STANDARD
DTSTART;VALUE=DATE:18000101
RRULE:FREQ=YEARLY;BYDAY=SU;BYHOUR=2;BYMINUTE=0;BYMONTH=10;BYMONTHDAY=25,26,
 27,28,29,30,31
TZOFFSETFROM:+0100
TZOFFSETTO:+0000
END:STANDARD
BEGIN:DAYLIGHT
DTSTART;VALUE=DATE:18000101
RRULE:FREQ=YEARLY;BYDAY=SU;BYHOUR=1;BYMINUTE=0;BYMONTH=3;BYMONTHDAY=25,26,2
 7,28,29,30,31
TZOFFSETFROM:+0000
TZOFFSETTO:+0100
END:DAYLIGHT
END:VTIMEZONE
BEGIN:VEVENT
DESCRIPTION:This shoots counts towards the Clout Trophy\, presented annuall
 y at the club dinner.
DTEND;TZID=GMT Standard Time:20200503T123000
DTSTAMP:20260425T162802
DTSTART;TZID=GMT Standard Time:20200503T100000
LOCATION:Club field
SEQUENCE:0
SUMMARY:May Clout (CT1)
UID:63b6dfff-abd8-4be0-8928-2ce440db7deb
URL:http://www.bowmenofbosworth.com/may-clout-2020-05-03
END:VEVENT
END:VCALENDAR
