BEGIN:VCALENDAR
VERSION:2.0
METHOD:PUBLISH
PRODID:-//ddaysoftware.com//NONSGML DDay.iCal 1.0//EN
BEGIN:VTIMEZONE
TZID:GMT Standard Time
BEGIN:STANDARD
DTSTART;VALUE=DATE:18000101
RRULE:FREQ=YEARLY;BYDAY=SU;BYHOUR=2;BYMINUTE=0;BYMONTH=10;BYMONTHDAY=25,26,
 27,28,29,30,31
TZOFFSETFROM:+0100
TZOFFSETTO:+0000
END:STANDARD
BEGIN:DAYLIGHT
DTSTART;VALUE=DATE:18000101
RRULE:FREQ=YEARLY;BYDAY=SU;BYHOUR=1;BYMINUTE=0;BYMONTH=3;BYMONTHDAY=25,26,2
 7,28,29,30,31
TZOFFSETFROM:+0000
TZOFFSETTO:+0100
END:DAYLIGHT
END:VTIMEZONE
BEGIN:VEVENT
DESCRIPTION:Have-a-go archery for ages 7+ and adults to get a taste of shoo
 ting with a training bow.
DTEND;TZID=GMT Standard Time:20200517T170000
DTSTAMP:20260425T163226
DTSTART;TZID=GMT Standard Time:20200517T090000
LOCATION:Burbage Common
SEQUENCE:0
SUMMARY:Have-a-go archery
UID:3c59605d-c48d-4386-94cd-c2a14c5f3cce
URL:http://www.bowmenofbosworth.com/have-a-go-archery-2020-05-17
END:VEVENT
END:VCALENDAR
