BEGIN:VCALENDAR
VERSION:2.0
METHOD:PUBLISH
PRODID:-//ddaysoftware.com//NONSGML DDay.iCal 1.0//EN
BEGIN:VTIMEZONE
TZID:GMT Standard Time
BEGIN:STANDARD
DTSTART;VALUE=DATE:18000101
RRULE:FREQ=YEARLY;BYDAY=SU;BYHOUR=2;BYMINUTE=0;BYMONTH=10;BYMONTHDAY=25,26,
 27,28,29,30,31
TZOFFSETFROM:+0100
TZOFFSETTO:+0000
END:STANDARD
BEGIN:DAYLIGHT
DTSTART;VALUE=DATE:18000101
RRULE:FREQ=YEARLY;BYDAY=SU;BYHOUR=1;BYMINUTE=0;BYMONTH=3;BYMONTHDAY=25,26,2
 7,28,29,30,31
TZOFFSETFROM:+0000
TZOFFSETTO:+0100
END:DAYLIGHT
END:VTIMEZONE
BEGIN:VEVENT
DESCRIPTION:The Ambion Arrow is shot as a Redmore round and is in remembrac
 e of one of the founder members of the club - John Randall. There are two 
 trophies\, one for the winner and one for the best gold (middle of the tar
 get). Afterwards there is food and drink provided by club members. This sh
 oot also counts towards the Founder's cup\, which is in remembrance of ano
 ther founding member - Alan Rogers.
DTEND;TZID=GMT Standard Time:20200607T123000
DTSTAMP:20260425T145416
DTSTART;TZID=GMT Standard Time:20200607T100000
LOCATION:Club field
SEQUENCE:0
SUMMARY:Ambion Arrow (FC1)
UID:4bf6b775-1ef6-4a94-bb39-ddb08888df65
URL:http://www.bowmenofbosworth.com/ambion-arrow-2020-06-07
END:VEVENT
END:VCALENDAR
