BEGIN:VCALENDAR
VERSION:2.0
METHOD:PUBLISH
PRODID:-//ddaysoftware.com//NONSGML DDay.iCal 1.0//EN
BEGIN:VTIMEZONE
TZID:GMT Standard Time
BEGIN:STANDARD
DTSTART;VALUE=DATE:18000101
RRULE:FREQ=YEARLY;BYDAY=SU;BYHOUR=2;BYMINUTE=0;BYMONTH=10;BYMONTHDAY=25,26,
 27,28,29,30,31
TZOFFSETFROM:+0100
TZOFFSETTO:+0000
END:STANDARD
BEGIN:DAYLIGHT
DTSTART;VALUE=DATE:18000101
RRULE:FREQ=YEARLY;BYDAY=SU;BYHOUR=1;BYMINUTE=0;BYMONTH=3;BYMONTHDAY=25,26,2
 7,28,29,30,31
TZOFFSETFROM:+0000
TZOFFSETTO:+0100
END:DAYLIGHT
END:VTIMEZONE
BEGIN:VEVENT
DESCRIPTION:This shoot counts towards the Clout trophy\, presented annually
  at the club dinner.
DTEND;TZID=GMT Standard Time:20200614T120000
DTSTAMP:20260425T145434
DTSTART;TZID=GMT Standard Time:20200614T100000
LOCATION:Club field
SEQUENCE:0
SUMMARY:Mid-Summer Clout (CT2)
UID:42ddbd78-cb4f-46bf-8652-7e15cecfba37
URL:http://www.bowmenofbosworth.com/mid-summer-clout-2020-06-14
END:VEVENT
END:VCALENDAR
