BEGIN:VCALENDAR
VERSION:2.0
METHOD:PUBLISH
PRODID:-//ddaysoftware.com//NONSGML DDay.iCal 1.0//EN
BEGIN:VTIMEZONE
TZID:GMT Standard Time
BEGIN:STANDARD
DTSTART;VALUE=DATE:18000101
RRULE:FREQ=YEARLY;BYDAY=SU;BYHOUR=2;BYMINUTE=0;BYMONTH=10;BYMONTHDAY=25,26,
 27,28,29,30,31
TZOFFSETFROM:+0100
TZOFFSETTO:+0000
END:STANDARD
BEGIN:DAYLIGHT
DTSTART;VALUE=DATE:18000101
RRULE:FREQ=YEARLY;BYDAY=SU;BYHOUR=1;BYMINUTE=0;BYMONTH=3;BYMONTHDAY=25,26,2
 7,28,29,30,31
TZOFFSETFROM:+0000
TZOFFSETTO:+0100
END:DAYLIGHT
END:VTIMEZONE
BEGIN:VEVENT
DESCRIPTION:This shoot counts towards the Founder's cup\, in memory of one 
 of the founders of the club - Alan Rogers.
DTEND;TZID=GMT Standard Time:20200623T090000
DTSTAMP:20260425T145417
DTSTART;TZID=GMT Standard Time:20200623T070000
LOCATION:Club field
SEQUENCE:0
SUMMARY:Wand shoot (FC2)
UID:1b8cb527-09e8-42a2-a0ad-928594d2142d
URL:http://www.bowmenofbosworth.com/wand-shoot-fc2-2020-06-23
END:VEVENT
END:VCALENDAR
