BEGIN:VCALENDAR
VERSION:2.0
METHOD:PUBLISH
PRODID:-//ddaysoftware.com//NONSGML DDay.iCal 1.0//EN
BEGIN:VTIMEZONE
TZID:GMT Standard Time
BEGIN:STANDARD
DTSTART;VALUE=DATE:18000101
RRULE:FREQ=YEARLY;BYDAY=SU;BYHOUR=2;BYMINUTE=0;BYMONTH=10;BYMONTHDAY=25,26,
 27,28,29,30,31
TZOFFSETFROM:+0100
TZOFFSETTO:+0000
END:STANDARD
BEGIN:DAYLIGHT
DTSTART;VALUE=DATE:18000101
RRULE:FREQ=YEARLY;BYDAY=SU;BYHOUR=1;BYMINUTE=0;BYMONTH=3;BYMONTHDAY=25,26,2
 7,28,29,30,31
TZOFFSETFROM:+0000
TZOFFSETTO:+0100
END:DAYLIGHT
END:VTIMEZONE
BEGIN:VEVENT
DESCRIPTION:
DTEND;TZID=GMT Standard Time:20200628T150000
DTSTAMP:20260425T131853
DTSTART;TZID=GMT Standard Time:20200628T110000
LOCATION:TBC
SEQUENCE:0
SUMMARY:Bass/Gordon (TBC)
UID:5575ba46-fe68-4384-a866-4b1958d7dd38
URL:http://www.bowmenofbosworth.com/bassgordon-tbc-2020-06-28
END:VEVENT
END:VCALENDAR
