BEGIN:VCALENDAR
VERSION:2.0
METHOD:PUBLISH
PRODID:-//ddaysoftware.com//NONSGML DDay.iCal 1.0//EN
BEGIN:VTIMEZONE
TZID:GMT Standard Time
BEGIN:STANDARD
DTSTART;VALUE=DATE:18000101
RRULE:FREQ=YEARLY;BYDAY=SU;BYHOUR=2;BYMINUTE=0;BYMONTH=10;BYMONTHDAY=25,26,
 27,28,29,30,31
TZOFFSETFROM:+0100
TZOFFSETTO:+0000
END:STANDARD
BEGIN:DAYLIGHT
DTSTART;VALUE=DATE:18000101
RRULE:FREQ=YEARLY;BYDAY=SU;BYHOUR=1;BYMINUTE=0;BYMONTH=3;BYMONTHDAY=25,26,2
 7,28,29,30,31
TZOFFSETFROM:+0000
TZOFFSETTO:+0100
END:DAYLIGHT
END:VTIMEZONE
BEGIN:VEVENT
DESCRIPTION:This shoot counts towards the Club Champion trophy\, presented 
 annually at the club dinner.
DTEND;TZID=GMT Standard Time:20200705T090000
DTSTAMP:20260425T131825
DTSTART;TZID=GMT Standard Time:20200705T080000
LOCATION:Club field
SEQUENCE:0
SUMMARY:Summer Championship (CC4)
UID:0c8ecd00-86a8-48ad-a6b0-fff918bb8487
URL:http://www.bowmenofbosworth.com/summer-championship-cc4-2020-07-05
END:VEVENT
END:VCALENDAR
