BEGIN:VCALENDAR
VERSION:2.0
METHOD:PUBLISH
PRODID:-//ddaysoftware.com//NONSGML DDay.iCal 1.0//EN
BEGIN:VTIMEZONE
TZID:GMT Standard Time
BEGIN:STANDARD
DTSTART;VALUE=DATE:18000101
RRULE:FREQ=YEARLY;BYDAY=SU;BYHOUR=2;BYMINUTE=0;BYMONTH=10;BYMONTHDAY=25,26,
 27,28,29,30,31
TZOFFSETFROM:+0100
TZOFFSETTO:+0000
END:STANDARD
BEGIN:DAYLIGHT
DTSTART;VALUE=DATE:18000101
RRULE:FREQ=YEARLY;BYDAY=SU;BYHOUR=1;BYMINUTE=0;BYMONTH=3;BYMONTHDAY=25,26,2
 7,28,29,30,31
TZOFFSETFROM:+0000
TZOFFSETTO:+0100
END:DAYLIGHT
END:VTIMEZONE
BEGIN:VEVENT
DESCRIPTION:This shoot is part of the Founder's cup\, presented annually at
  the club dinner. Scoring is done in reverse\, for example the gold in the
  middle of the target is scored as 1 point instead of a 9 and the white ou
 ter band is scored as a 9 instead of a .
DTEND;TZID=GMT Standard Time:20200714T210000
DTSTAMP:20260425T131826
DTSTART;TZID=GMT Standard Time:20200714T190000
LOCATION:Club field
SEQUENCE:0
SUMMARY:Toohs Esrever (FC3)
UID:bc53b7b4-ecdc-435e-aa00-539ebef46d06
URL:http://www.bowmenofbosworth.com/toohs-esrever-fc3-2020-07-14
END:VEVENT
END:VCALENDAR
