BEGIN:VCALENDAR
VERSION:2.0
METHOD:PUBLISH
PRODID:-//ddaysoftware.com//NONSGML DDay.iCal 1.0//EN
BEGIN:VTIMEZONE
TZID:GMT Standard Time
BEGIN:STANDARD
DTSTART;VALUE=DATE:18000101
RRULE:FREQ=YEARLY;BYDAY=SU;BYHOUR=2;BYMINUTE=0;BYMONTH=10;BYMONTHDAY=25,26,
 27,28,29,30,31
TZOFFSETFROM:+0100
TZOFFSETTO:+0000
END:STANDARD
BEGIN:DAYLIGHT
DTSTART;VALUE=DATE:18000101
RRULE:FREQ=YEARLY;BYDAY=SU;BYHOUR=1;BYMINUTE=0;BYMONTH=3;BYMONTHDAY=25,26,2
 7,28,29,30,31
TZOFFSETFROM:+0000
TZOFFSETTO:+0100
END:DAYLIGHT
END:VTIMEZONE
BEGIN:VEVENT
DESCRIPTION:This is a fun clout shoot\, where we shoot at the knight while 
 trying to miss the monk.
DTEND;TZID=GMT Standard Time:20200719T123000
DTSTAMP:20260425T131853
DTSTART;TZID=GMT Standard Time:20200719T100000
LOCATION:Club field
SEQUENCE:0
SUMMARY:Bert's Battle
UID:1d22ad46-106e-4b0b-a5bf-db3809ba8037
URL:http://www.bowmenofbosworth.com/berts-battle-2020-07-19
END:VEVENT
END:VCALENDAR
