BEGIN:VCALENDAR
VERSION:2.0
METHOD:PUBLISH
PRODID:-//ddaysoftware.com//NONSGML DDay.iCal 1.0//EN
BEGIN:VTIMEZONE
TZID:GMT Standard Time
BEGIN:STANDARD
DTSTART;VALUE=DATE:18000101
RRULE:FREQ=YEARLY;BYDAY=SU;BYHOUR=2;BYMINUTE=0;BYMONTH=10;BYMONTHDAY=25,26,
 27,28,29,30,31
TZOFFSETFROM:+0100
TZOFFSETTO:+0000
END:STANDARD
BEGIN:DAYLIGHT
DTSTART;VALUE=DATE:18000101
RRULE:FREQ=YEARLY;BYDAY=SU;BYHOUR=1;BYMINUTE=0;BYMONTH=3;BYMONTHDAY=25,26,2
 7,28,29,30,31
TZOFFSETFROM:+0000
TZOFFSETTO:+0100
END:DAYLIGHT
END:VTIMEZONE
BEGIN:VEVENT
DESCRIPTION:This shoot is part of the Clout Trophy\, presented annually at 
 the club dinner.
DTEND;TZID=GMT Standard Time:20200726T123000
DTSTAMP:20260425T112421
DTSTART;TZID=GMT Standard Time:20200726T100000
LOCATION:Club field
SEQUENCE:0
SUMMARY:Battle of Cravant Clout (CT3)
UID:93970cb2-8b11-437b-a608-d0745c075974
URL:http://www.bowmenofbosworth.com/battle-of-cravant-clout-ct3-2020-07-26
END:VEVENT
END:VCALENDAR
