BEGIN:VCALENDAR
VERSION:2.0
METHOD:PUBLISH
PRODID:-//ddaysoftware.com//NONSGML DDay.iCal 1.0//EN
BEGIN:VTIMEZONE
TZID:GMT Standard Time
BEGIN:STANDARD
DTSTART;VALUE=DATE:18000101
RRULE:FREQ=YEARLY;BYDAY=SU;BYHOUR=2;BYMINUTE=0;BYMONTH=10;BYMONTHDAY=25,26,
 27,28,29,30,31
TZOFFSETFROM:+0100
TZOFFSETTO:+0000
END:STANDARD
BEGIN:DAYLIGHT
DTSTART;VALUE=DATE:18000101
RRULE:FREQ=YEARLY;BYDAY=SU;BYHOUR=1;BYMINUTE=0;BYMONTH=3;BYMONTHDAY=25,26,2
 7,28,29,30,31
TZOFFSETFROM:+0000
TZOFFSETTO:+0100
END:DAYLIGHT
END:VTIMEZONE
BEGIN:VEVENT
DESCRIPTION:The Memorial Shoot is where we remember people who died while t
 hey were a member of the club. A black arrow is shot for each person and m
 embers of their family are invited to this event. Food is provided by the 
 club members for everyone.
DTEND;TZID=GMT Standard Time:20200802T141500
DTSTAMP:20260425T112535
DTSTART;TZID=GMT Standard Time:20200802T091500
LOCATION:The club field
SEQUENCE:0
SUMMARY:Memorial Shoot
UID:ed761fe2-289c-455c-8913-4c0d02b03dc7
URL:http://www.bowmenofbosworth.com/memorial-shoot-2020-08-02
END:VEVENT
END:VCALENDAR
