BEGIN:VCALENDAR
VERSION:2.0
METHOD:PUBLISH
PRODID:-//ddaysoftware.com//NONSGML DDay.iCal 1.0//EN
BEGIN:VTIMEZONE
TZID:GMT Standard Time
BEGIN:STANDARD
DTSTART;VALUE=DATE:18000101
RRULE:FREQ=YEARLY;BYDAY=SU;BYHOUR=2;BYMINUTE=0;BYMONTH=10;BYMONTHDAY=25,26,
 27,28,29,30,31
TZOFFSETFROM:+0100
TZOFFSETTO:+0000
END:STANDARD
BEGIN:DAYLIGHT
DTSTART;VALUE=DATE:18000101
RRULE:FREQ=YEARLY;BYDAY=SU;BYHOUR=1;BYMINUTE=0;BYMONTH=3;BYMONTHDAY=25,26,2
 7,28,29,30,31
TZOFFSETFROM:+0000
TZOFFSETTO:+0100
END:DAYLIGHT
END:VTIMEZONE
BEGIN:VEVENT
DESCRIPTION:This shoot counts towards the Target Trophy\, presented annuall
 y at the club dinner.
DTEND;TZID=GMT Standard Time:20200809T123000
DTSTAMP:20260425T112451
DTSTART;TZID=GMT Standard Time:20200809T100000
LOCATION:The club field
SEQUENCE:0
SUMMARY:Western Round (TT3)
UID:9bbf0cf2-dbb7-45e9-bad4-98674b226ac8
URL:http://www.bowmenofbosworth.com/western-round-tt3-2020-08-09
END:VEVENT
END:VCALENDAR
