BEGIN:VCALENDAR
VERSION:2.0
METHOD:PUBLISH
PRODID:-//ddaysoftware.com//NONSGML DDay.iCal 1.0//EN
BEGIN:VTIMEZONE
TZID:GMT Standard Time
BEGIN:STANDARD
DTSTART;VALUE=DATE:18000101
RRULE:FREQ=YEARLY;BYDAY=SU;BYHOUR=2;BYMINUTE=0;BYMONTH=10;BYMONTHDAY=25,26,
 27,28,29,30,31
TZOFFSETFROM:+0100
TZOFFSETTO:+0000
END:STANDARD
BEGIN:DAYLIGHT
DTSTART;VALUE=DATE:18000101
RRULE:FREQ=YEARLY;BYDAY=SU;BYHOUR=1;BYMINUTE=0;BYMONTH=3;BYMONTHDAY=25,26,2
 7,28,29,30,31
TZOFFSETFROM:+0000
TZOFFSETTO:+0100
END:DAYLIGHT
END:VTIMEZONE
BEGIN:VEVENT
DESCRIPTION:The Annual General Meeting gives all members the chance to have
  their say on the running of the club\, to elect the coming years Committe
 e and to eat some food.
DTEND;TZID=GMT Standard Time:20200818T210000
DTSTAMP:20260425T112450
DTSTART;TZID=GMT Standard Time:20200818T193000
LOCATION:TBC
SEQUENCE:0
SUMMARY:Club AGM
UID:359104e3-e7e7-4d74-9af2-04d34e70dbc2
URL:http://www.bowmenofbosworth.com/club-agm-2020-08-18
END:VEVENT
END:VCALENDAR
