BEGIN:VCALENDAR
VERSION:2.0
METHOD:PUBLISH
PRODID:-//ddaysoftware.com//NONSGML DDay.iCal 1.0//EN
BEGIN:VTIMEZONE
TZID:GMT Standard Time
BEGIN:STANDARD
DTSTART;VALUE=DATE:18000101
RRULE:FREQ=YEARLY;BYDAY=SU;BYHOUR=2;BYMINUTE=0;BYMONTH=10;BYMONTHDAY=25,26,
 27,28,29,30,31
TZOFFSETFROM:+0100
TZOFFSETTO:+0000
END:STANDARD
BEGIN:DAYLIGHT
DTSTART;VALUE=DATE:18000101
RRULE:FREQ=YEARLY;BYDAY=SU;BYHOUR=1;BYMINUTE=0;BYMONTH=3;BYMONTHDAY=25,26,2
 7,28,29,30,31
TZOFFSETFROM:+0000
TZOFFSETTO:+0100
END:DAYLIGHT
END:VTIMEZONE
BEGIN:VEVENT
DESCRIPTION:
DTEND;TZID=GMT Standard Time;VALUE=DATE:20200308
DTSTAMP:20260425T201835
DTSTART;TZID=GMT Standard Time;VALUE=DATE:20200307
LOCATION:
SEQUENCE:0
SUMMARY:Workshop - Bows and Strings
UID:caad8041-dd0f-4aae-bb68-820ae8cdb695
URL:http://www.bowmenofbosworth.com/workshop-bows-and-strings-2020-03-07
END:VEVENT
END:VCALENDAR
