BEGIN:VCALENDAR
VERSION:2.0
METHOD:PUBLISH
PRODID:-//ddaysoftware.com//NONSGML DDay.iCal 1.0//EN
BEGIN:VTIMEZONE
TZID:GMT Standard Time
BEGIN:STANDARD
DTSTART;VALUE=DATE:18000101
RRULE:FREQ=YEARLY;BYDAY=SU;BYHOUR=2;BYMINUTE=0;BYMONTH=10;BYMONTHDAY=25,26,
 27,28,29,30,31
TZOFFSETFROM:+0100
TZOFFSETTO:+0000
END:STANDARD
BEGIN:DAYLIGHT
DTSTART;VALUE=DATE:18000101
RRULE:FREQ=YEARLY;BYDAY=SU;BYHOUR=1;BYMINUTE=0;BYMONTH=3;BYMONTHDAY=25,26,2
 7,28,29,30,31
TZOFFSETFROM:+0000
TZOFFSETTO:+0100
END:DAYLIGHT
END:VTIMEZONE
BEGIN:VEVENT
DESCRIPTION:We are running Have-a-go archery as part of the Bosworth Battle
 field Medieval festival.
DTEND;TZID=GMT Standard Time;VALUE=DATE:20200222
DTSTAMP:20260425T214647
DTSTART;TZID=GMT Standard Time;VALUE=DATE:20200221
LOCATION:Bosworth Battlefield
SEQUENCE:0
SUMMARY:Have-a-go archery
UID:28db0556-90ae-460c-a4b3-8e4fc127ea5c
URL:http://www.bowmenofbosworth.com/have-a-go-archery-2020-02-21
END:VEVENT
END:VCALENDAR
