BEGIN:VCALENDAR
VERSION:2.0
METHOD:PUBLISH
PRODID:-//ddaysoftware.com//NONSGML DDay.iCal 1.0//EN
BEGIN:VTIMEZONE
TZID:GMT Standard Time
BEGIN:STANDARD
DTSTART;VALUE=DATE:18000101
RRULE:FREQ=YEARLY;BYDAY=SU;BYHOUR=2;BYMINUTE=0;BYMONTH=10;BYMONTHDAY=25,26,
 27,28,29,30,31
TZOFFSETFROM:+0100
TZOFFSETTO:+0000
END:STANDARD
BEGIN:DAYLIGHT
DTSTART;VALUE=DATE:18000101
RRULE:FREQ=YEARLY;BYDAY=SU;BYHOUR=1;BYMINUTE=0;BYMONTH=3;BYMONTHDAY=25,26,2
 7,28,29,30,31
TZOFFSETFROM:+0000
TZOFFSETTO:+0100
END:DAYLIGHT
END:VTIMEZONE
BEGIN:VEVENT
DESCRIPTION:Bosworth Battlefield where we are running a Have-a-go archery o
 ver the weekend.
DTEND;TZID=GMT Standard Time;VALUE=DATE:20200823
DTSTAMP:20260425T112540
DTSTART;TZID=GMT Standard Time;VALUE=DATE:20200822
LOCATION:Bosworth Battlefield
SEQUENCE:0
SUMMARY:Have-a-Go archery
UID:a8bcfc19-495a-4bee-b1c4-23b5a624cd7f
URL:http://www.bowmenofbosworth.com/have-a-go-session-2020-08-22
END:VEVENT
END:VCALENDAR
