BEGIN:VCALENDAR
VERSION:2.0
METHOD:PUBLISH
PRODID:-//ddaysoftware.com//NONSGML DDay.iCal 1.0//EN
BEGIN:VTIMEZONE
TZID:GMT Standard Time
BEGIN:STANDARD
DTSTART;VALUE=DATE:18000101
RRULE:FREQ=YEARLY;BYDAY=SU;BYHOUR=2;BYMINUTE=0;BYMONTH=10;BYMONTHDAY=25,26,
 27,28,29,30,31
TZOFFSETFROM:+0100
TZOFFSETTO:+0000
END:STANDARD
BEGIN:DAYLIGHT
DTSTART;VALUE=DATE:18000101
RRULE:FREQ=YEARLY;BYDAY=SU;BYHOUR=1;BYMINUTE=0;BYMONTH=3;BYMONTHDAY=25,26,2
 7,28,29,30,31
TZOFFSETFROM:+0000
TZOFFSETTO:+0100
END:DAYLIGHT
END:VTIMEZONE
BEGIN:VEVENT
DESCRIPTION:Bosworth Battlefield where we are running a Have-a-go archery o
 ver the weekend.
DTEND;TZID=GMT Standard Time;VALUE=DATE:20200824
DTSTAMP:20260425T112450
DTSTART;TZID=GMT Standard Time;VALUE=DATE:20200823
LOCATION:Bosworth Battlefield
SEQUENCE:0
SUMMARY:Have-a-go archery
UID:f1e889fa-f9bc-4dfe-97ae-fcf8f089ad4a
URL:http://www.bowmenofbosworth.com/have-a-go-archery-2020-08-23
END:VEVENT
END:VCALENDAR
