BEGIN:VCALENDAR
VERSION:2.0
METHOD:PUBLISH
PRODID:-//ddaysoftware.com//NONSGML DDay.iCal 1.0//EN
BEGIN:VTIMEZONE
TZID:GMT Standard Time
BEGIN:STANDARD
DTSTART;VALUE=DATE:18000101
RRULE:FREQ=YEARLY;BYDAY=SU;BYHOUR=2;BYMINUTE=0;BYMONTH=10;BYMONTHDAY=25,26,
 27,28,29,30,31
TZOFFSETFROM:+0100
TZOFFSETTO:+0000
END:STANDARD
BEGIN:DAYLIGHT
DTSTART;VALUE=DATE:18000101
RRULE:FREQ=YEARLY;BYDAY=SU;BYHOUR=1;BYMINUTE=0;BYMONTH=3;BYMONTHDAY=25,26,2
 7,28,29,30,31
TZOFFSETFROM:+0000
TZOFFSETTO:+0100
END:DAYLIGHT
END:VTIMEZONE
BEGIN:VEVENT
DESCRIPTION:Social event for all members with family and friends. Bring pic
 nic food to share and join in the games.
DTEND;TZID=GMT Standard Time:20200829T153000
DTSTAMP:20260425T112356
DTSTART;TZID=GMT Standard Time:20200829T120000
LOCATION:Market Bosworth country park
SEQUENCE:0
SUMMARY:Picnic in the Park
UID:be1f5ac4-ea5f-4b59-ad73-a9e43e514307
URL:http://www.bowmenofbosworth.com/picnic-in-the-park-2020-08-29
END:VEVENT
END:VCALENDAR
