BEGIN:VCALENDAR
VERSION:2.0
METHOD:PUBLISH
PRODID:-//ddaysoftware.com//NONSGML DDay.iCal 1.0//EN
BEGIN:VTIMEZONE
TZID:GMT Standard Time
BEGIN:STANDARD
DTSTART;VALUE=DATE:18000101
RRULE:FREQ=YEARLY;BYDAY=SU;BYHOUR=2;BYMINUTE=0;BYMONTH=10;BYMONTHDAY=25,26,
 27,28,29,30,31
TZOFFSETFROM:+0100
TZOFFSETTO:+0000
END:STANDARD
BEGIN:DAYLIGHT
DTSTART;VALUE=DATE:18000101
RRULE:FREQ=YEARLY;BYDAY=SU;BYHOUR=1;BYMINUTE=0;BYMONTH=3;BYMONTHDAY=25,26,2
 7,28,29,30,31
TZOFFSETFROM:+0000
TZOFFSETTO:+0100
END:DAYLIGHT
END:VTIMEZONE
BEGIN:VEVENT
DESCRIPTION:This shoot goes toward the Club Champion trophy\, presented ann
 ually at the club dinner.
DTEND;TZID=GMT Standard Time;VALUE=DATE:20200309
DTSTAMP:20260425T201713
DTSTART;TZID=GMT Standard Time;VALUE=DATE:20200308
LOCATION:The club field
SEQUENCE:0
SUMMARY:Clouta Vernalia (CC2)
UID:ccfeb8a2-ce43-48f7-98b4-105e3166fdde
URL:http://www.bowmenofbosworth.com/clouta-vernalia-2020-03-08
END:VEVENT
END:VCALENDAR
