BEGIN:VCALENDAR
VERSION:2.0
METHOD:PUBLISH
PRODID:-//ddaysoftware.com//NONSGML DDay.iCal 1.0//EN
BEGIN:VTIMEZONE
TZID:GMT Standard Time
BEGIN:STANDARD
DTSTART;VALUE=DATE:18000101
RRULE:FREQ=YEARLY;BYDAY=SU;BYHOUR=2;BYMINUTE=0;BYMONTH=10;BYMONTHDAY=25,26,
 27,28,29,30,31
TZOFFSETFROM:+0100
TZOFFSETTO:+0000
END:STANDARD
BEGIN:DAYLIGHT
DTSTART;VALUE=DATE:18000101
RRULE:FREQ=YEARLY;BYDAY=SU;BYHOUR=1;BYMINUTE=0;BYMONTH=3;BYMONTHDAY=25,26,2
 7,28,29,30,31
TZOFFSETFROM:+0000
TZOFFSETTO:+0100
END:DAYLIGHT
END:VTIMEZONE
BEGIN:VEVENT
DESCRIPTION:Anyone can join in this shoot but only those who have not won a
  trophy before\, are eligable for the Novice trophy.
DTEND;TZID=GMT Standard Time:20200315T123000
DTSTAMP:20260425T201754
DTSTART;TZID=GMT Standard Time:20200315T100000
LOCATION:The club field
SEQUENCE:0
SUMMARY:Novice Trophy
UID:60d47aac-a77e-470c-8646-9eddd193e31a
URL:http://www.bowmenofbosworth.com/novice-trophy-2020-03-15
END:VEVENT
END:VCALENDAR
