BEGIN:VCALENDAR
VERSION:2.0
METHOD:PUBLISH
PRODID:-//ddaysoftware.com//NONSGML DDay.iCal 1.0//EN
BEGIN:VTIMEZONE
TZID:GMT Standard Time
BEGIN:STANDARD
DTSTART;VALUE=DATE:18000101
RRULE:FREQ=YEARLY;BYDAY=SU;BYHOUR=2;BYMINUTE=0;BYMONTH=10;BYMONTHDAY=25,26,
 27,28,29,30,31
TZOFFSETFROM:+0100
TZOFFSETTO:+0000
END:STANDARD
BEGIN:DAYLIGHT
DTSTART;VALUE=DATE:18000101
RRULE:FREQ=YEARLY;BYDAY=SU;BYHOUR=1;BYMINUTE=0;BYMONTH=3;BYMONTHDAY=25,26,2
 7,28,29,30,31
TZOFFSETFROM:+0000
TZOFFSETTO:+0100
END:DAYLIGHT
END:VTIMEZONE
BEGIN:VEVENT
DESCRIPTION:A fun target shoot - chocolate coins as prizes.
DTEND;TZID=GMT Standard Time:20201129T123000
DTSTAMP:20260425T044722
DTSTART;TZID=GMT Standard Time:20201129T100000
LOCATION:The club field
SEQUENCE:0
SUMMARY:Frostbite shoot
UID:650eb0d0-5466-437d-8433-55a5e5d3248c
URL:http://www.bowmenofbosworth.com/frostbite-shoot-2020-11-29
END:VEVENT
END:VCALENDAR
